BEGIN:VCALENDAR
VERSION:2.0
PRODID:-//Archer Inspirations - ECPv6.15.20//NONSGML v1.0//EN
CALSCALE:GREGORIAN
METHOD:PUBLISH
X-WR-CALNAME:Archer Inspirations
X-ORIGINAL-URL:https://archerinspirations.com
X-WR-CALDESC:Events for Archer Inspirations
REFRESH-INTERVAL;VALUE=DURATION:PT1H
X-Robots-Tag:noindex
X-PUBLISHED-TTL:PT1H
BEGIN:VTIMEZONE
TZID:Europe/Stockholm
BEGIN:DAYLIGHT
TZOFFSETFROM:+0100
TZOFFSETTO:+0200
TZNAME:CEST
DTSTART:20250330T010000
END:DAYLIGHT
BEGIN:STANDARD
TZOFFSETFROM:+0200
TZOFFSETTO:+0100
TZNAME:CET
DTSTART:20251026T010000
END:STANDARD
BEGIN:DAYLIGHT
TZOFFSETFROM:+0100
TZOFFSETTO:+0200
TZNAME:CEST
DTSTART:20260329T010000
END:DAYLIGHT
BEGIN:STANDARD
TZOFFSETFROM:+0200
TZOFFSETTO:+0100
TZNAME:CET
DTSTART:20261025T010000
END:STANDARD
BEGIN:DAYLIGHT
TZOFFSETFROM:+0100
TZOFFSETTO:+0200
TZNAME:CEST
DTSTART:20270328T010000
END:DAYLIGHT
BEGIN:STANDARD
TZOFFSETFROM:+0200
TZOFFSETTO:+0100
TZNAME:CET
DTSTART:20271031T010000
END:STANDARD
END:VTIMEZONE
BEGIN:VEVENT
DTSTART;TZID=Europe/Stockholm:20260414T183000
DTEND;TZID=Europe/Stockholm:20260414T191500
DTSTAMP:20260425T151912
CREATED:20260409T105747Z
LAST-MODIFIED:20260415T110225Z
UID:5327-1776191400-1776194100@archerinspirations.com
SUMMARY:From Autopilot to Self Leadership
DESCRIPTION:From Autopilot to Self Leadership \n45 minutes for you to come back to yourself \n  \nYou’re successful. Capable. Used to handling things.\nAnd yet if you’re honest\, many days feel like they’re running you instead of the other way around. \nYou show up. You get things done. You’re there for others.\nBut somewhere along the way\, you stopped fully showing up for yourself. \nI know this because I lived it\, and I found my way back. \nThis webinar is about coming back.\nNot by doing more\, but by becoming present in the life you’re already living.\nNot by escaping your life\, but by learning how to lead yourself from presence instead of autopilot. \nI’ll share simple but powerful keys that helped me move from exhaustion to clarity and that now help my clients reconnect with energy\, focus\, and joy without leaving their current life behind. \nYou’ll discover:
URL:https://archerinspirations.com/event/from-autopilot-to-self-leadership/
LOCATION:Online
ORGANIZER;CN="Anneli Johansson":MAILTO:anneli@archerinspirations.com
END:VEVENT
END:VCALENDAR